BEGIN:VCALENDAR
VERSION:2.0
PRODID:-//Craig Price - ECPv6.15.20//NONSGML v1.0//EN
CALSCALE:GREGORIAN
METHOD:PUBLISH
X-ORIGINAL-URL:https://moderatorcraigprice.com
X-WR-CALDESC:Events for Craig Price
REFRESH-INTERVAL;VALUE=DURATION:PT1H
X-Robots-Tag:noindex
X-PUBLISHED-TTL:PT1H
BEGIN:VTIMEZONE
TZID:America/Los_Angeles
BEGIN:DAYLIGHT
TZOFFSETFROM:-0800
TZOFFSETTO:-0700
TZNAME:PDT
DTSTART:20220313T100000
END:DAYLIGHT
BEGIN:STANDARD
TZOFFSETFROM:-0700
TZOFFSETTO:-0800
TZNAME:PST
DTSTART:20221106T090000
END:STANDARD
BEGIN:DAYLIGHT
TZOFFSETFROM:-0800
TZOFFSETTO:-0700
TZNAME:PDT
DTSTART:20230312T100000
END:DAYLIGHT
BEGIN:STANDARD
TZOFFSETFROM:-0700
TZOFFSETTO:-0800
TZNAME:PST
DTSTART:20231105T090000
END:STANDARD
BEGIN:DAYLIGHT
TZOFFSETFROM:-0800
TZOFFSETTO:-0700
TZNAME:PDT
DTSTART:20240310T100000
END:DAYLIGHT
BEGIN:STANDARD
TZOFFSETFROM:-0700
TZOFFSETTO:-0800
TZNAME:PST
DTSTART:20241103T090000
END:STANDARD
END:VTIMEZONE
BEGIN:VEVENT
DTSTART;VALUE=DATE:20230520
DTEND;VALUE=DATE:20230522
DTSTAMP:20260423T145119
CREATED:20230330T233836Z
LAST-MODIFIED:20230510T175041Z
UID:1689-1684540800-1684713599@moderatorcraigprice.com
SUMMARY:Comic Con Revolution - Ontario 2023
DESCRIPTION:Comic Con Revolution is an annual comic con held at the Ontario Convention Center.\nThe sixth annual event is scheduled for May 20 & 21\, 2023. \nSaturday May 20th\, 2023 – 10:00am (9:00a w/ advance ticket purchase) to 6:00pm\nSunday May 21st\, 2023 – 11:00am (10:00a w/ advance ticket purchase) to 5:00pm \nAttendees can expect a full exhibit hall with over 350 exhibitors including comic creators (over 155 creators in Artist Alley)\, new comic dealers\, vintage comic dealers\, Comic publishers\, toy & collectibles vendors\, crafts\, costumes\, clothing\, cosplayers\, fan groups\, media stars and more. \nComic Con Revolution was founded on very simple principles. We are excited to celebrate comics and the creative arts. At the absolute core of what we do are the creators themselves. The people who create the comics\, games\, toys\, film\, movies and more that we all love. Without their tireless dedication to creating the fantastic worlds we all get lost in events like Comic Con Revolution would not be possible. \nCraig’s Moderating Schedule: (times and subjects may change without notice) \n\n\n\nSAT\n12:00PM-12:50PM\n200ABC\nA LOOK BACK TO THE FUTURE\nClaudia Wells\,\nDonald Fullilove\nOne of pop culture’s all time favorite films Back To The Future is still in our hearts today. Join stars Claudia Wells(Jennifer Parker) and Donald Fullilove(Goldie Wilson) for a Delorian ride down memory lane as they share stories from their time on set. \n\n\nSAT\n2:30PM-3:20PM\n203ABC\nGOING BOLDER WITH THE ORVILLE\nJ. Lee\,\nScott Grimes\nWhat began as a love letter to some of the greatest science fiction shows on television has given fans three unforgettable seasons (so far) of camp\, suspense\, comedy\, and heart. At CCR\, stars Scott Grimes (Gordon Malloy) and J. Lee (John LaMarr) share behind-the-scenes stories from the bridge of The Orville. \n\n\nSUN\n11:00AM-11:50AM\n200ABC\nVOICE ACTING IN VIDEO GAMES\nGreg Baldwin\,\nGrey DeLisle\,\nOlivia Hack\,\nJennie Kwan\,\nCarlos Ferro\nVillains\, heroes\, even narrators: voice actors have always brought life to the visuals in your favorite video games. Our panel of star voice actors talk about what goes into finding new characters and doing different takes on iconic ones. \n\n\nSUN\n12:30PM-1:20PM\n203ABC\nDAREDEVIL: A SHOW WITHOUT FEAR\nDeborah Ann Woll\,\nTommy Walker\,\nPeter Shinkoda\nNetflix brought the street level of the Marvel Universe to fans with the landmark Daredevil series. In a special CCR panel\, we look back on how the show did what other comic book shows before it couldn’t with Tommy Walker (Francis)\, Peter Shinkoda (Nobu)\, and Deborah Ann Woll (Karen Page).\n\n\nSun 5/21\n1:30PM-2:20PM\n203ABC\nCOBRA KAI WITH SEAN KANAN\nSean Kanan\nMike Barnes’s long-awaited return to the Karate Kid world in Netflix’s Cobra Kai gave fans one of its most-asked-for faces. At CCR\, actor Sean Kanan talks about how his return came about and what’s in store for Mike Barnes. \n\n\n\nShare this:\n				Share on X (Opens in new window)\n				X\n			\n				Share on Facebook (Opens in new window)\n				Facebook\n			\n				Share on LinkedIn (Opens in new window)\n				LinkedIn\n			\n				Share on Reddit (Opens in new window)\n				Reddit\n			More\n				Share on Threads (Opens in new window)\n				Threads\n			\n				Share on Bluesky (Opens in new window)\n				Bluesky\n			Like this:Like Loading...
URL:https://moderatorcraigprice.com/event/comic-con-revolution-ontario-2023/
LOCATION:Ontario Convention Center\, 2000 E Convention Center Way\, Ontario\, CA\, 91764\, United States
CATEGORIES:Comic Con Revolution - Ontario
ATTACH;FMTTYPE=image/png:https://moderatorcraigprice.com/wp-content/uploads/2023/03/logo1-e1680219581997.png
END:VEVENT
END:VCALENDAR