BEGIN:VCALENDAR
VERSION:2.0
PRODID:-//Craig Price - ECPv6.15.20//NONSGML v1.0//EN
CALSCALE:GREGORIAN
METHOD:PUBLISH
X-WR-CALNAME:Craig Price
X-ORIGINAL-URL:https://moderatorcraigprice.com
X-WR-CALDESC:Events for Craig Price
REFRESH-INTERVAL;VALUE=DURATION:PT1H
X-Robots-Tag:noindex
X-PUBLISHED-TTL:PT1H
BEGIN:VTIMEZONE
TZID:America/Los_Angeles
BEGIN:DAYLIGHT
TZOFFSETFROM:-0800
TZOFFSETTO:-0700
TZNAME:PDT
DTSTART:20250309T100000
END:DAYLIGHT
BEGIN:STANDARD
TZOFFSETFROM:-0700
TZOFFSETTO:-0800
TZNAME:PST
DTSTART:20251102T090000
END:STANDARD
BEGIN:DAYLIGHT
TZOFFSETFROM:-0800
TZOFFSETTO:-0700
TZNAME:PDT
DTSTART:20260308T100000
END:DAYLIGHT
BEGIN:STANDARD
TZOFFSETFROM:-0700
TZOFFSETTO:-0800
TZNAME:PST
DTSTART:20261101T090000
END:STANDARD
BEGIN:DAYLIGHT
TZOFFSETFROM:-0800
TZOFFSETTO:-0700
TZNAME:PDT
DTSTART:20270314T100000
END:DAYLIGHT
BEGIN:STANDARD
TZOFFSETFROM:-0700
TZOFFSETTO:-0800
TZNAME:PST
DTSTART:20271107T090000
END:STANDARD
END:VTIMEZONE
BEGIN:VEVENT
DTSTART;TZID=America/Los_Angeles:20260522T000000
DTEND;TZID=America/Los_Angeles:20260524T235959
DTSTAMP:20260423T112827
CREATED:20260101T214933Z
LAST-MODIFIED:20260101T214933Z
UID:7502-1779408000-1779667199@moderatorcraigprice.com
SUMMARY:Comicpalooza 2026
DESCRIPTION:Comicpalooza is the largest annual\, multi-genre\, comic book\, science fiction\, anime\, gaming\, and pop-culture convention in the Southern United States and is held in Houston\, Texas. \nAt Comicpalooza you’re always in good company. Go ahead\, get your cosplay costume and get ready to be transported into a pop-culture extravaganza at Comicpalooza. From panels discussing an array of fan topics\, to an exhibition floor featuring unique art and handcrafted goods from artists\, to #starstruck moments with our celebrity line-ups\, to a thrilling cosplay competition featuring some of our fans\, and so much more\, there is never a dull moment at Comicpalooza. \nShare this:\n				Share on X (Opens in new window)\n				X\n			\n				Share on Facebook (Opens in new window)\n				Facebook\n			\n				Share on LinkedIn (Opens in new window)\n				LinkedIn\n			\n				Share on Reddit (Opens in new window)\n				Reddit\n			More\n				Share on Threads (Opens in new window)\n				Threads\n			\n				Share on Bluesky (Opens in new window)\n				Bluesky\n			Like this:Like Loading...
URL:https://moderatorcraigprice.com/event/comicpalooza-2026/
LOCATION:George R. Brown Convention Center\, 1001 Avenida De Las Americas\, Houston\, TX\, 77019\, United States
CATEGORIES:ComicPalooza
ATTACH;FMTTYPE=image/jpeg:https://moderatorcraigprice.com/wp-content/uploads/2026/01/CP2026-Date-Header-1920x1080-Website-for-Buy-Pases-copy_09bc54fdf84a484f7959a770404139b41.jpg
END:VEVENT
END:VCALENDAR