BEGIN:VCALENDAR
VERSION:2.0
PRODID:-//Craig Price - ECPv6.15.20//NONSGML v1.0//EN
CALSCALE:GREGORIAN
METHOD:PUBLISH
X-ORIGINAL-URL:https://moderatorcraigprice.com
X-WR-CALDESC:Events for Craig Price
REFRESH-INTERVAL;VALUE=DURATION:PT1H
X-Robots-Tag:noindex
X-PUBLISHED-TTL:PT1H
BEGIN:VTIMEZONE
TZID:America/Los_Angeles
BEGIN:DAYLIGHT
TZOFFSETFROM:-0800
TZOFFSETTO:-0700
TZNAME:PDT
DTSTART:20220313T100000
END:DAYLIGHT
BEGIN:STANDARD
TZOFFSETFROM:-0700
TZOFFSETTO:-0800
TZNAME:PST
DTSTART:20221106T090000
END:STANDARD
BEGIN:DAYLIGHT
TZOFFSETFROM:-0800
TZOFFSETTO:-0700
TZNAME:PDT
DTSTART:20230312T100000
END:DAYLIGHT
BEGIN:STANDARD
TZOFFSETFROM:-0700
TZOFFSETTO:-0800
TZNAME:PST
DTSTART:20231105T090000
END:STANDARD
BEGIN:DAYLIGHT
TZOFFSETFROM:-0800
TZOFFSETTO:-0700
TZNAME:PDT
DTSTART:20240310T100000
END:DAYLIGHT
BEGIN:STANDARD
TZOFFSETFROM:-0700
TZOFFSETTO:-0800
TZNAME:PST
DTSTART:20241103T090000
END:STANDARD
END:VTIMEZONE
BEGIN:VEVENT
DTSTART;VALUE=DATE:20230728
DTEND;VALUE=DATE:20230731
DTSTAMP:20260423T145257
CREATED:20230330T235424Z
LAST-MODIFIED:20230724T162706Z
UID:1704-1690502400-1690761599@moderatorcraigprice.com
SUMMARY:Tampa Bay Comic Convention - 2023
DESCRIPTION:Tampa Bay Comic Convention is a comic and pop culture event for the whole family! Celebrity guests\, photo ops and autograph sessions\, hundreds of hours of programming\, cosplay\, games and much more.  \nFriday July 28th\, 2023 – 11:00am to 10:00pm\nSaturday July 29th\, 2023 – 11:00am to 10:00pm\nSunday July 30th\, 2023 – 9:00am to 5:00pm \nTampa Bay Comic Convention is a comic book convention located in Tampa\, Florida. Tampa Bay Comic Convention is Tampa’s largest\, true comic convention. Featured are exhibitors that cater to a wide-spectrum of interests including comic books\, magazines\, toys\, games\, Star Wars\, Star Trek\, anime\, manga\, cosplay\, artwork\, sketches and apparel. In addition\, a roster of comic industry professionals\, and comicdom-related celebrities are in attendance for attendees to meet and greet. As admission is kept reasonable for adults and FREE for children\, the Tampa Bay Comic Convention is a family-friendly convention. \nCraig’s Moderating Schedule: (times and subjects may change without notice) \n\n\n\nFRI\n3:00PM-3:50PM\nBALLROOM A\nCartoon Voice Actor Spotlight\nJim Cummings\nMaurice LaMarche\nRob Paulsen\nEnjoy this spotlight panel featuring Jim Cummings (Winnie The Pooh\, Tigger\, Ray the Firefly)\, Rob Paulsen (Pinky\, Wacko\, Carl Wheezer)\, and Maurice LaMarche (The Brain\, Calculon\, Mr. Big)!\n\n\nSAT\n2:00PM-2:50PM\nBALLROOM A\nFinal Fantasy VII: Advent Children Spotlight\nSteve Burton\, George Newbern\nEnjoy this spotlight panel featuring Steve Burton and George Newbern!\n\n\nSUN\n10:30PM-11:20PM\nROOM 103\nBai Ling\nBai Ling\nBai Ling is a Chinese-American actress known for her work in the films The Crow\, Nixon\, Red Corner\, Crank: High Voltage\, Dumplings\, Wild Wild West\, Anna and the King\, Southland Tales\, and Maximum Impact\, as well as TV shows Entourage and Lost. Notably\, she won the Best Supporting Actress awards at the 2004 Hong Kong Film Awards and the 2004 Golden Horse Awards in Taiwan for her role in Dumplings.\n\n\nSUN\n12:30PM-1:20PM\nBALLROOM A\nWalter Koenig Spotlight\nWalter Koenig\nWalter Koenig is an American actor and screenwriter best known for his role as Ensign Pavel Chekov in Star Trek: The Original Series. He went on to reprise this role in all six original-cast Star Trek films. He has also acted in several other series and films including Goodbye\, Raggedy Ann\, The Questor Tapes\, and Babylon 5. In addition to his acting career\, Koenig has made a career in writing as well and is known for working on Land of the Lost\, Family\, and What Really Happened to the Class of ’65?\, and The Powers of Matthew Star.\n\n\nSUN\n1:30PM-2:30PM\nROOM 103\nArtist Spotlight: Gavin Smith\nGavin Smith\nGavin Smith is the current artist for Teenage Mutant Ninja Turtles’ ongoing series from IDW. Some of his most recent work includes Star Trek: The Mirror War for IDW\, Heartpiercer for Dark Horse Comics\, and various TMNT covers for IDW including The Last Ronin\, Armageddon Game\, and the ongoing series.\n\n\n\nShare this:\n				Share on X (Opens in new window)\n				X\n			\n				Share on Facebook (Opens in new window)\n				Facebook\n			\n				Share on LinkedIn (Opens in new window)\n				LinkedIn\n			\n				Share on Reddit (Opens in new window)\n				Reddit\n			More\n				Share on Threads (Opens in new window)\n				Threads\n			\n				Share on Bluesky (Opens in new window)\n				Bluesky\n			Like this:Like Loading...
URL:https://moderatorcraigprice.com/event/tampa-bay-comic-convention-2023/
LOCATION:Tampa Bay Convention Center\, 333 S Franklin St.\, Tampa\, FL\, 33602\, United States
CATEGORIES:FanX,Tampa Bay Comic Con
ATTACH;FMTTYPE=image/png:https://moderatorcraigprice.com/wp-content/uploads/2023/03/Tampa-Dropshadow1-e1680219881136.png
END:VEVENT
END:VCALENDAR