BEGIN:VCALENDAR
VERSION:2.0
PRODID:-//Craig Price - ECPv6.15.20//NONSGML v1.0//EN
CALSCALE:GREGORIAN
METHOD:PUBLISH
X-ORIGINAL-URL:https://moderatorcraigprice.com
X-WR-CALDESC:Events for Craig Price
REFRESH-INTERVAL;VALUE=DURATION:PT1H
X-Robots-Tag:noindex
X-PUBLISHED-TTL:PT1H
BEGIN:VTIMEZONE
TZID:America/Los_Angeles
BEGIN:DAYLIGHT
TZOFFSETFROM:-0800
TZOFFSETTO:-0700
TZNAME:PDT
DTSTART:20230312T100000
END:DAYLIGHT
BEGIN:STANDARD
TZOFFSETFROM:-0700
TZOFFSETTO:-0800
TZNAME:PST
DTSTART:20231105T090000
END:STANDARD
BEGIN:DAYLIGHT
TZOFFSETFROM:-0800
TZOFFSETTO:-0700
TZNAME:PDT
DTSTART:20240310T100000
END:DAYLIGHT
BEGIN:STANDARD
TZOFFSETFROM:-0700
TZOFFSETTO:-0800
TZNAME:PST
DTSTART:20241103T090000
END:STANDARD
BEGIN:DAYLIGHT
TZOFFSETFROM:-0800
TZOFFSETTO:-0700
TZNAME:PDT
DTSTART:20250309T100000
END:DAYLIGHT
BEGIN:STANDARD
TZOFFSETFROM:-0700
TZOFFSETTO:-0800
TZNAME:PST
DTSTART:20251102T090000
END:STANDARD
BEGIN:DAYLIGHT
TZOFFSETFROM:-0800
TZOFFSETTO:-0700
TZNAME:PDT
DTSTART:20260308T100000
END:DAYLIGHT
BEGIN:STANDARD
TZOFFSETFROM:-0700
TZOFFSETTO:-0800
TZNAME:PST
DTSTART:20261101T090000
END:STANDARD
BEGIN:DAYLIGHT
TZOFFSETFROM:-0800
TZOFFSETTO:-0700
TZNAME:PDT
DTSTART:20270314T100000
END:DAYLIGHT
BEGIN:STANDARD
TZOFFSETFROM:-0700
TZOFFSETTO:-0800
TZNAME:PST
DTSTART:20271107T090000
END:STANDARD
END:VTIMEZONE
BEGIN:VEVENT
DTSTART;TZID=America/Los_Angeles:20260307T000000
DTEND;TZID=America/Los_Angeles:20260308T235959
DTSTAMP:20260423T161916
CREATED:20260101T214513Z
LAST-MODIFIED:20260101T214513Z
UID:7500-1772841600-1773014399@moderatorcraigprice.com
SUMMARY:Retro Expo 2026
DESCRIPTION:Retro Expo is best pop culture collecting event in north Dallas! March 7-8\, 2026 inside the Plano Event Center. \nShare this:\n				Share on X (Opens in new window)\n				X\n			\n				Share on Facebook (Opens in new window)\n				Facebook\n			\n				Share on LinkedIn (Opens in new window)\n				LinkedIn\n			\n				Share on Reddit (Opens in new window)\n				Reddit\n			More\n				Share on Threads (Opens in new window)\n				Threads\n			\n				Share on Bluesky (Opens in new window)\n				Bluesky\n			Like this:Like Loading...
URL:https://moderatorcraigprice.com/event/retro-expo-2026/
LOCATION:Plano Event Center\, 2000 E Spring Creek Pkwy.\, Plano\, TX\, 75074
CATEGORIES:Retro Expo
ATTACH;FMTTYPE=image/png:https://moderatorcraigprice.com/wp-content/uploads/2024/06/relogo-collectors1.png
END:VEVENT
BEGIN:VEVENT
DTSTART;TZID=America/Los_Angeles:20250712T000000
DTEND;TZID=America/Los_Angeles:20250713T235959
DTSTAMP:20260423T161916
CREATED:20250618T172801Z
LAST-MODIFIED:20250918T173726Z
UID:6527-1752278400-1752451199@moderatorcraigprice.com
SUMMARY:Retro Expo - 2025
DESCRIPTION:Retro Expo is best pop culture collecting event in north Dallas! July 12-13\, 2025 inside the Plano Event Center. \n11:00 am – 11:45 am SATURDAY\nMatinee Heroes: Teenage Mutant Ninja Turtles (1990)\nJoin “Matinee Heroes” podcast host Craig Price along with frequent guest Rob Ervin as they talk about the movie that took the TMNT craze into overdrive as they talk their experiences with it\, recasting the roles\, and more! \n2:00 pm – 12:45 pm SATURDAY\nScott Innes… Where Are You?\nScott Innes has done voice work for some of the most iconic characters of our time\, but he is best known for his extensive work with the “Scooby-Doo” franchise! Come find out about his career\, some of his favorite moments with the characters\, and YOUR questions! \n2:00 – 2:45 SATURDAY\nWind\, Water\, Earth\, Sky\, and MORE!\n“The Last Airbender” is one of those franchises that has stood the test of modern times\, and “The Legend of Korra” has continued that story even further! We have EIGHT of the cast members from this beloved series with us to talk about their journeys and answer YOUR questions! Join Greg Baldwin\, Janey Varney\, Gre Delisle-Griffin\, Olivia Hack\, Michaela Jill Murphy\, Jennie Kwan\, Andre Sogliuzzo\, and Cricket Leigh for this MEGA PANEL! \n12:00 pm – 12:45 pm SUNDAY\nMatinee Heroes: Superman II\n Join the host of “Matinee Heroes\,” Craig Price\, along with Rob Ervin to talk about one of the greatest sequels of our time! They’ll talk how they felt\, they will recast the roles and compare notes\, and MORE! \nShare this:\n				Share on X (Opens in new window)\n				X\n			\n				Share on Facebook (Opens in new window)\n				Facebook\n			\n				Share on LinkedIn (Opens in new window)\n				LinkedIn\n			\n				Share on Reddit (Opens in new window)\n				Reddit\n			More\n				Share on Threads (Opens in new window)\n				Threads\n			\n				Share on Bluesky (Opens in new window)\n				Bluesky\n			Like this:Like Loading...
URL:https://moderatorcraigprice.com/event/retro-expo-2025/
LOCATION:Plano Event Center\, 2000 E Spring Creek Pkwy.\, Plano\, TX\, 75074
CATEGORIES:Retro Expo
ATTACH;FMTTYPE=image/png:https://moderatorcraigprice.com/wp-content/uploads/2024/06/relogo-collectors1.png
END:VEVENT
BEGIN:VEVENT
DTSTART;VALUE=DATE:20240713
DTEND;VALUE=DATE:20240715
DTSTAMP:20260423T161916
CREATED:20240624T215014Z
LAST-MODIFIED:20240624T215757Z
UID:3504-1720828800-1721001599@moderatorcraigprice.com
SUMMARY:Retro Expo - 2024
DESCRIPTION:Retro Expo is best pop culture collecting event in north Dallas! July 13-14\, 2024 inside the Plano Event Center. \n3PM SATURDAY\nREBELS REUNITE!\n \nMATT LANTER • VANESSA MARSHALL • CAT TABER • JAMES ARNOLD TAYLOR • ASHLEY ECKSTEIN • TAYLOR GRAY • TIYA SIRCAR\n \nFor almost 50 years\, “Star Wars” has dominated the pop culture landscape and shows like “Clone Wars” and “Rebels” have kept its spirit alive with fans of all ages!\nDon’t miss this opportunity to meet seven of the voice talents from these shows on the same stage talk about what it was like to be a part of such a monumental brand\, what they’ve been working on since and so much more! \n2PM SUNDAY\nA GLADIATOR IN THE ARENA AND THE COURTROOM!\nHARRY HAMLIN\nHarry Hamlin is a LEGEND in the entertainment business and Retro Expo is proud to welcome him as a guest at our 2024 event! We can’t wait to talk to him about not only being Perseus but also some of the other great things he has done in his career spanning almost fifty years!  \n3PM SUNDAY\nM* A* S* H*\nLORETTA SWIT & JAMIE FARR\nM* A* S* H* changed the way we watched television\, and two of its biggest stars are going to be at Retro Expo! Join Loretta Swit and Jamie Farr as they tell stories from their legendary series\, great things about their careers and more! \nShare this:\n				Share on X (Opens in new window)\n				X\n			\n				Share on Facebook (Opens in new window)\n				Facebook\n			\n				Share on LinkedIn (Opens in new window)\n				LinkedIn\n			\n				Share on Reddit (Opens in new window)\n				Reddit\n			More\n				Share on Threads (Opens in new window)\n				Threads\n			\n				Share on Bluesky (Opens in new window)\n				Bluesky\n			Like this:Like Loading...
URL:https://moderatorcraigprice.com/event/retro-expo-2024/
LOCATION:Plano Event Center\, 2000 E Spring Creek Pkwy.\, Plano\, TX\, 75074
CATEGORIES:Retro Expo
ATTACH;FMTTYPE=image/png:https://moderatorcraigprice.com/wp-content/uploads/2024/06/relogo-collectors1.png
END:VEVENT
END:VCALENDAR