BEGIN:VCALENDAR
VERSION:2.0
PRODID:-//Craig Price - ECPv6.15.20//NONSGML v1.0//EN
CALSCALE:GREGORIAN
METHOD:PUBLISH
X-ORIGINAL-URL:https://moderatorcraigprice.com
X-WR-CALDESC:Events for Craig Price
REFRESH-INTERVAL;VALUE=DURATION:PT1H
X-Robots-Tag:noindex
X-PUBLISHED-TTL:PT1H
BEGIN:VTIMEZONE
TZID:America/Los_Angeles
BEGIN:DAYLIGHT
TZOFFSETFROM:-0800
TZOFFSETTO:-0700
TZNAME:PDT
DTSTART:20250309T100000
END:DAYLIGHT
BEGIN:STANDARD
TZOFFSETFROM:-0700
TZOFFSETTO:-0800
TZNAME:PST
DTSTART:20251102T090000
END:STANDARD
BEGIN:DAYLIGHT
TZOFFSETFROM:-0800
TZOFFSETTO:-0700
TZNAME:PDT
DTSTART:20260308T100000
END:DAYLIGHT
BEGIN:STANDARD
TZOFFSETFROM:-0700
TZOFFSETTO:-0800
TZNAME:PST
DTSTART:20261101T090000
END:STANDARD
BEGIN:DAYLIGHT
TZOFFSETFROM:-0800
TZOFFSETTO:-0700
TZNAME:PDT
DTSTART:20270314T100000
END:DAYLIGHT
BEGIN:STANDARD
TZOFFSETFROM:-0700
TZOFFSETTO:-0800
TZNAME:PST
DTSTART:20271107T090000
END:STANDARD
END:VTIMEZONE
BEGIN:VEVENT
DTSTART;TZID=America/Los_Angeles:20260116T150000
DTEND;TZID=America/Los_Angeles:20260118T170000
DTSTAMP:20260423T144443
CREATED:20260101T214138Z
LAST-MODIFIED:20260101T214138Z
UID:7491-1768575600-1768755600@moderatorcraigprice.com
SUMMARY:Fan Expo Portland 2026
DESCRIPTION:FAN EXPO Portland is the ultimate go-to event for sci-fi\, horror\, anime\, and gaming event in Portland that attracts thousands of people to the Oregon Convention Center. \n  \nFriday January 16th\, 2026\nSaturday January 17th\, 2024\nSunday January 18th\, 2024 \nShare this:\n				Share on X (Opens in new window)\n				X\n			\n				Share on Facebook (Opens in new window)\n				Facebook\n			\n				Share on LinkedIn (Opens in new window)\n				LinkedIn\n			\n				Share on Reddit (Opens in new window)\n				Reddit\n			More\n				Share on Threads (Opens in new window)\n				Threads\n			\n				Share on Bluesky (Opens in new window)\n				Bluesky\n			Like this:Like Loading...
URL:https://moderatorcraigprice.com/event/fan-expo-portland-2026/
LOCATION:Oregon Convention Center\, 777 NE Martin Luther King Jr Blvd\, Portland\, OR\, 97232\, United States
CATEGORIES:Fan Expo,Fan Expo Portland
ATTACH;FMTTYPE=image/png:https://moderatorcraigprice.com/wp-content/uploads/2026/01/S-logo_C252761.png
END:VEVENT
END:VCALENDAR